BEGIN:VCALENDAR
VERSION:2.0
PRODID:-//QED-C - ECPv6.15.18//NONSGML v1.0//EN
CALSCALE:GREGORIAN
METHOD:PUBLISH
X-WR-CALNAME:QED-C
X-ORIGINAL-URL:https://quantumconsortium.org
X-WR-CALDESC:Events for QED-C
REFRESH-INTERVAL;VALUE=DURATION:PT1H
X-Robots-Tag:noindex
X-PUBLISHED-TTL:PT1H
BEGIN:VTIMEZONE
TZID:America/New_York
BEGIN:DAYLIGHT
TZOFFSETFROM:-0500
TZOFFSETTO:-0400
TZNAME:EDT
DTSTART:20220313T070000
END:DAYLIGHT
BEGIN:STANDARD
TZOFFSETFROM:-0400
TZOFFSETTO:-0500
TZNAME:EST
DTSTART:20221106T060000
END:STANDARD
BEGIN:DAYLIGHT
TZOFFSETFROM:-0500
TZOFFSETTO:-0400
TZNAME:EDT
DTSTART:20230312T070000
END:DAYLIGHT
BEGIN:STANDARD
TZOFFSETFROM:-0400
TZOFFSETTO:-0500
TZNAME:EST
DTSTART:20231105T060000
END:STANDARD
BEGIN:DAYLIGHT
TZOFFSETFROM:-0500
TZOFFSETTO:-0400
TZNAME:EDT
DTSTART:20240310T070000
END:DAYLIGHT
BEGIN:STANDARD
TZOFFSETFROM:-0400
TZOFFSETTO:-0500
TZNAME:EST
DTSTART:20241103T060000
END:STANDARD
END:VTIMEZONE
BEGIN:VEVENT
DTSTART;TZID=America/New_York:20230518T140000
DTEND;TZID=America/New_York:20230518T150000
DTSTAMP:20260424T122936
CREATED:20230508T221537Z
LAST-MODIFIED:20240401T182703Z
UID:807950-1684418400-1684422000@quantumconsortium.org
SUMMARY:Webinar - Use cases for fault-tolerant quantum computers
DESCRIPTION:View event details at https://quantumconsortium.org/event/webinar-use-cases-for-fault-tolerant-quantum-computers/
URL:https://quantumconsortium.org/event/webinar-use-cases-for-fault-tolerant-quantum-computers/
CATEGORIES:Webinar
END:VEVENT
END:VCALENDAR