BEGIN:VCALENDAR
VERSION:2.0
PRODID:-//QED-C - ECPv6.15.18//NONSGML v1.0//EN
CALSCALE:GREGORIAN
METHOD:PUBLISH
X-WR-CALNAME:QED-C
X-ORIGINAL-URL:https://quantumconsortium.org
X-WR-CALDESC:Events for QED-C
REFRESH-INTERVAL;VALUE=DURATION:PT1H
X-Robots-Tag:noindex
X-PUBLISHED-TTL:PT1H
BEGIN:VTIMEZONE
TZID:America/New_York
BEGIN:DAYLIGHT
TZOFFSETFROM:-0500
TZOFFSETTO:-0400
TZNAME:EDT
DTSTART:20230312T070000
END:DAYLIGHT
BEGIN:STANDARD
TZOFFSETFROM:-0400
TZOFFSETTO:-0500
TZNAME:EST
DTSTART:20231105T060000
END:STANDARD
BEGIN:DAYLIGHT
TZOFFSETFROM:-0500
TZOFFSETTO:-0400
TZNAME:EDT
DTSTART:20240310T070000
END:DAYLIGHT
BEGIN:STANDARD
TZOFFSETFROM:-0400
TZOFFSETTO:-0500
TZNAME:EST
DTSTART:20241103T060000
END:STANDARD
BEGIN:DAYLIGHT
TZOFFSETFROM:-0500
TZOFFSETTO:-0400
TZNAME:EDT
DTSTART:20250309T070000
END:DAYLIGHT
BEGIN:STANDARD
TZOFFSETFROM:-0400
TZOFFSETTO:-0500
TZNAME:EST
DTSTART:20251102T060000
END:STANDARD
END:VTIMEZONE
BEGIN:VEVENT
DTSTART;TZID=America/New_York:20240924T110000
DTEND;TZID=America/New_York:20240924T120000
DTSTAMP:20260425T203202
CREATED:20240909T214422Z
LAST-MODIFIED:20240909T214422Z
UID:2760907-1727175600-1727179200@quantumconsortium.org
SUMMARY:Webinar: Navigating The Quantum Export Control Rule
DESCRIPTION:View event details at https://quantumconsortium.org/event/bis-briefing-for-qed-c-members-on-qc-export-controls/
URL:https://quantumconsortium.org/event/bis-briefing-for-qed-c-members-on-qc-export-controls/
CATEGORIES:Topical Meeting,Webinar,Law & Policy TAC Meeting
END:VEVENT
END:VCALENDAR